BEGIN:VCALENDAR
VERSION:2.0
PRODID:-//Graceland - ECPv6.15.20//NONSGML v1.0//EN
CALSCALE:GREGORIAN
METHOD:PUBLISH
X-WR-CALNAME:Graceland
X-ORIGINAL-URL:https://www.graceland.edu
X-WR-CALDESC:Events for Graceland
REFRESH-INTERVAL;VALUE=DURATION:PT1H
X-Robots-Tag:noindex
X-PUBLISHED-TTL:PT1H
BEGIN:VTIMEZONE
TZID:America/Chicago
BEGIN:DAYLIGHT
TZOFFSETFROM:-0600
TZOFFSETTO:-0500
TZNAME:CDT
DTSTART:20250309T080000
END:DAYLIGHT
BEGIN:STANDARD
TZOFFSETFROM:-0500
TZOFFSETTO:-0600
TZNAME:CST
DTSTART:20251102T070000
END:STANDARD
BEGIN:DAYLIGHT
TZOFFSETFROM:-0600
TZOFFSETTO:-0500
TZNAME:CDT
DTSTART:20260308T080000
END:DAYLIGHT
BEGIN:STANDARD
TZOFFSETFROM:-0500
TZOFFSETTO:-0600
TZNAME:CST
DTSTART:20261101T070000
END:STANDARD
BEGIN:DAYLIGHT
TZOFFSETFROM:-0600
TZOFFSETTO:-0500
TZNAME:CDT
DTSTART:20270314T080000
END:DAYLIGHT
BEGIN:STANDARD
TZOFFSETFROM:-0500
TZOFFSETTO:-0600
TZNAME:CST
DTSTART:20271107T070000
END:STANDARD
END:VTIMEZONE
BEGIN:VEVENT
DTSTART;TZID=America/Chicago:20260424T165500
DTEND;TZID=America/Chicago:20260424T170000
DTSTAMP:20260422T042805
CREATED:20260413T213813Z
LAST-MODIFIED:20260421T215310Z
UID:69980-1777049700-1777050000@www.graceland.edu
SUMMARY:Yellow Jackets Philanthropy Circle Proposal Due
DESCRIPTION:Link to event: https://portal.graceland.edu/events/3474341\nDon’t miss your chance to receive up to $5\,000 in funding!\n \nThe deadline to submit your proposal to the Yellow Jackets Philanthropy Circle is April 24th by 5 p.m.\n \nThe Yellow Jackets Philanthropy Circle is a philanthropic initiative supporting students and programs on across our Graceland communities.\nHow it Works\n✔️ Submit your project idea\n✔️ Members (including alumni and friends) vote on which projects to fund.\n✔️ Receive a big check of up to $5\,000! (we do have a literal big check).\n \nWhat to do next:\nVisit Yellow Jackets Philanthropy Leadership Circle Website for additional information\nApply for funding!\n \n \nQuestions? Contact the Advancement team at development@graceland.edu
URL:https://www.graceland.edu/event/yellow-jackets-philanthropy-circle-proposal-due/
CATEGORIES:General Events
END:VEVENT
END:VCALENDAR