BEGIN:VCALENDAR
VERSION:2.0
PRODID:-//Graceland - ECPv6.15.20//NONSGML v1.0//EN
CALSCALE:GREGORIAN
METHOD:PUBLISH
X-WR-CALNAME:Graceland
X-ORIGINAL-URL:https://www.graceland.edu
X-WR-CALDESC:Events for Graceland
REFRESH-INTERVAL;VALUE=DURATION:PT1H
X-Robots-Tag:noindex
X-PUBLISHED-TTL:PT1H
BEGIN:VTIMEZONE
TZID:America/Chicago
BEGIN:DAYLIGHT
TZOFFSETFROM:-0600
TZOFFSETTO:-0500
TZNAME:CDT
DTSTART:20250309T080000
END:DAYLIGHT
BEGIN:STANDARD
TZOFFSETFROM:-0500
TZOFFSETTO:-0600
TZNAME:CST
DTSTART:20251102T070000
END:STANDARD
BEGIN:DAYLIGHT
TZOFFSETFROM:-0600
TZOFFSETTO:-0500
TZNAME:CDT
DTSTART:20260308T080000
END:DAYLIGHT
BEGIN:STANDARD
TZOFFSETFROM:-0500
TZOFFSETTO:-0600
TZNAME:CST
DTSTART:20261101T070000
END:STANDARD
BEGIN:DAYLIGHT
TZOFFSETFROM:-0600
TZOFFSETTO:-0500
TZNAME:CDT
DTSTART:20270314T080000
END:DAYLIGHT
BEGIN:STANDARD
TZOFFSETFROM:-0500
TZOFFSETTO:-0600
TZNAME:CST
DTSTART:20271107T070000
END:STANDARD
END:VTIMEZONE
BEGIN:VEVENT
DTSTART;VALUE=DATE:20260404
DTEND;VALUE=DATE:20260425
DTSTAMP:20260420T054754
CREATED:20260401T033815Z
LAST-MODIFIED:20260420T055311Z
UID:69715-1775260800-1777075199@www.graceland.edu
SUMMARY:Senior Art Exhibition
DESCRIPTION:Link to event: https://portal.graceland.edu/events/3387666\nJoin us in celebrating the artwork of our graduating seniors at Graceland University this Saturday\, April 4 at 12 p.m. in the Constance Gallery. These artworks explore a variety of topics including:\nEmpathy (Between Memory and Meaning).\nThe joy of creativity expressed in the medium of stained glass.\nBeyond the Altar (A deconstruction of Buddhist Culture and Japanese Philosophy).\nFashion Design with a focus on Baraja Espanola (a Spanish deck of cards).\nEnvironmental Science (Addressing Overexploitation\, Invasive Species and Climate Change)\n \nThe show is free and will be open from April 4–24. Come experience and enjoy this amazing thoughtful work by our talented graduating seniors of 2026.\n \nFeaturing artwork by:\nEmily Feagins\, Teri Foster\, Elisa Lopez Berenguer\, DaShaun Westphal-Edwards\, Kaci Young
URL:https://www.graceland.edu/event/senior-art-exhibition/
LOCATION:The Helene Center for the Visual Arts\, University Place\, Lamoni\, IA\, USA (Rm: Constance Gallery)
CATEGORIES:Art
END:VEVENT
BEGIN:VEVENT
DTSTART;TZID=America/Chicago:20260420T220000
DTEND;TZID=America/Chicago:20260420T230000
DTSTAMP:20260420T054754
CREATED:20250718T201653Z
LAST-MODIFIED:20260419T155311Z
UID:62569-1776722400-1776726000@www.graceland.edu
SUMMARY:Spring Classes End (Semester)
DESCRIPTION:
URL:https://www.graceland.edu/event/spring-classes-end-semester/
CATEGORIES:Academics
END:VEVENT
BEGIN:VEVENT
DTSTART;VALUE=DATE:20260421
DTEND;VALUE=DATE:20260429
DTSTAMP:20260420T054754
CREATED:20260409T213809Z
LAST-MODIFIED:20260419T215310Z
UID:69927-1776729600-1777420799@www.graceland.edu
SUMMARY:Electronic Waste Recycling (Lamoni)
DESCRIPTION:Link to event: https://portal.graceland.edu/events/3441264\n🗑️ ♻️Community-Wide Electronic Waste Gathering ♻️🗑️\nDo you have electronics you are no longer using? Don’t throw them away\, we can help you recycle them! Graceland University ITS is partnering with Southern Central Iowa Electronic Scrap (SCIES) to host a community-wide electronic waste recycling event on the Lamoni campus.\n \n📍 For Lamoni Community Members\nThere will be recycling receptacles in the Thomas Apartments parking lot.\n \n📍 For Graceland University Students\, Faculty\, and Staff on the Lamoni Campus\nThere will be an area near the dumpsters for students to place electronics for recycling. There is an e-waste recycling bin permanently situated in Newcom Student Union located near the student help desk for those who would like to get a head start on recycling before the community-wide event begins.\n \nStudents\, faculty\, and staff on thee Lamoni campus are welcome to bring electronics to the ITS offices for recycling. Please let Tech Support know if you need a member of the Tech Support team to collect electronic items from your office area for recycling.\n \n✅What Can Be Recycled?\nMost anything that runs on electricity or batteries. You can recycle microwaves and small household appliances like dorm-sized refrigerators and non-commercial microwave ovens\n \n❌What Cannot Be Recycled?\nPre-1991 LCD televisions and monitors\nCathode ray tube televisions\nLarge household appliances\nContaminated medical equipment\n \n❔Questions?\nPlease contact Graceland University Tech Support\nEmail: TechSupport@graceland.edu\nPhone: 641-784-5400
URL:https://www.graceland.edu/event/electronic-waste-recycling-lamoni/
LOCATION:Newcom Student Union\, University Place\, Lamoni\, IA\, USA (Rm: (& other locations))
CATEGORIES:General Events
END:VEVENT
BEGIN:VEVENT
DTSTART;TZID=America/Chicago:20260421T080000
DTEND;TZID=America/Chicago:20260424T170000
DTSTAMP:20260420T054754
CREATED:20250718T201653Z
LAST-MODIFIED:20260419T155312Z
UID:62570-1776758400-1777050000@www.graceland.edu
SUMMARY:Final Exams (Semester)
DESCRIPTION:
URL:https://www.graceland.edu/event/final-exams-semester/
CATEGORIES:Academics
END:VEVENT
BEGIN:VEVENT
DTSTART;TZID=America/Chicago:20260421T130000
DTEND;TZID=America/Chicago:20260421T130000
DTSTAMP:20260420T054754
CREATED:20260203T140857Z
LAST-MODIFIED:20260419T230812Z
UID:68363-1776776400-1776776400@www.graceland.edu
SUMMARY:(Softball) Graceland at Peru State
DESCRIPTION:(Softball) Graceland at Peru State\, Centennial Softball Complex | Peru\, NE
URL:https://www.graceland.edu/event/softball-graceland-at-peru-state-4/
CATEGORIES:GU Jackets,Softball
END:VEVENT
BEGIN:VEVENT
DTSTART;TZID=America/Chicago:20260421T150000
DTEND;TZID=America/Chicago:20260421T150000
DTSTAMP:20260420T054754
CREATED:20260203T140857Z
LAST-MODIFIED:20260419T230812Z
UID:68362-1776783600-1776783600@www.graceland.edu
SUMMARY:(Softball) Graceland at Peru State
DESCRIPTION:(Softball) Graceland at Peru State\, Centennial Softball Complex | Peru\, NE
URL:https://www.graceland.edu/event/softball-graceland-at-peru-state-3/
CATEGORIES:GU Jackets,Softball
END:VEVENT
BEGIN:VEVENT
DTSTART;TZID=America/Chicago:20260422T090000
DTEND;TZID=America/Chicago:20260422T090000
DTSTAMP:20260420T054754
CREATED:20260114T122353Z
LAST-MODIFIED:20260419T230813Z
UID:67422-1776848400-1776848400@www.graceland.edu
SUMMARY:(Men's Outdoor Track and Field) Drake Relays
DESCRIPTION:(Men’s Outdoor Track and Field) Drake Relays\, Jim Duncan Track | Des Moines\, IA
URL:https://www.graceland.edu/event/mens-outdoor-track-and-field-drake-relays/
CATEGORIES:GU Jackets,Men's Outdoor Track and Field
END:VEVENT
BEGIN:VEVENT
DTSTART;TZID=America/Chicago:20260422T090000
DTEND;TZID=America/Chicago:20260422T090000
DTSTAMP:20260420T054754
CREATED:20260114T122354Z
LAST-MODIFIED:20260419T230813Z
UID:67423-1776848400-1776848400@www.graceland.edu
SUMMARY:(Women's Outdoor Track and Field) Drake Relays
DESCRIPTION:(Women’s Outdoor Track and Field) Drake Relays\, Jim Duncan Track | Des Moines\, IA
URL:https://www.graceland.edu/event/womens-outdoor-track-and-field-drake-relays/
CATEGORIES:GU Jackets,Women's Outdoor Track and Field
END:VEVENT
BEGIN:VEVENT
DTSTART;VALUE=DATE:20260422
DTEND;VALUE=DATE:20260424
DTSTAMP:20260420T054754
CREATED:20260114T122354Z
LAST-MODIFIED:20260419T230813Z
UID:67424-1776884400-1776970799@www.graceland.edu
SUMMARY:(Women's Outdoor Track and Field) Simpson College Kip Janvrin Open
DESCRIPTION:(Women’s Outdoor Track and Field) Simpson College Kip Janvrin Open\, Simpson College Track & Field Complex | Indianola\, IA
URL:https://www.graceland.edu/event/womens-outdoor-track-and-field-simpson-college-kip-janvrin-open/
CATEGORIES:GU Jackets,Women's Outdoor Track and Field
END:VEVENT
BEGIN:VEVENT
DTSTART;TZID=America/Chicago:20260422T193000
DTEND;TZID=America/Chicago:20260422T203000
DTSTAMP:20260420T054754
CREATED:20250905T233820Z
LAST-MODIFIED:20260419T235312Z
UID:64195-1776886200-1776889800@www.graceland.edu
SUMMARY:Afterglow Student-Led Worship
DESCRIPTION:Join us for Afterglow student-led worship! Every Wednesday in Cheville Chapel
URL:https://www.graceland.edu/event/afterglow-student-led-worship-33/
LOCATION:Cheville Chapel\, Lamoni\, IA\, USA (Rm: Sanctuary)
CATEGORIES:Campus Ministries
END:VEVENT
BEGIN:VEVENT
DTSTART;TZID=America/Chicago:20260423T090000
DTEND;TZID=America/Chicago:20260423T090000
DTSTAMP:20260420T054754
CREATED:20260114T122354Z
LAST-MODIFIED:20260419T230813Z
UID:67427-1776934800-1776934800@www.graceland.edu
SUMMARY:(Women's Outdoor Track and Field) Drake Relays
DESCRIPTION:(Women’s Outdoor Track and Field) Drake Relays\, Jim Duncan Track | Des Moines\, IA
URL:https://www.graceland.edu/event/womens-outdoor-track-and-field-drake-relays-2/
CATEGORIES:GU Jackets,Women's Outdoor Track and Field
END:VEVENT
BEGIN:VEVENT
DTSTART;TZID=America/Chicago:20260423T090000
DTEND;TZID=America/Chicago:20260423T090000
DTSTAMP:20260420T054754
CREATED:20260114T122354Z
LAST-MODIFIED:20260419T230813Z
UID:67426-1776934800-1776934800@www.graceland.edu
SUMMARY:(Men's Outdoor Track and Field) Drake Relays
DESCRIPTION:(Men’s Outdoor Track and Field) Drake Relays\, Jim Duncan Track | Des Moines\, IA
URL:https://www.graceland.edu/event/mens-outdoor-track-and-field-drake-relays-2/
CATEGORIES:GU Jackets,Men's Outdoor Track and Field
END:VEVENT
BEGIN:VEVENT
DTSTART;TZID=America/Chicago:20260423T090000
DTEND;TZID=America/Chicago:20260423T090000
DTSTAMP:20260420T054754
CREATED:20260114T122354Z
LAST-MODIFIED:20260419T230813Z
UID:67425-1776934800-1776934800@www.graceland.edu
SUMMARY:(Men's Outdoor Track and Field) Simpson College Kip Janvrin Open
DESCRIPTION:(Men’s Outdoor Track and Field) Simpson College Kip Janvrin Open\, Simpson College Track & Field Complex | Indianola\, IA
URL:https://www.graceland.edu/event/mens-outdoor-track-and-field-simpson-college-kip-janvrin-open/
CATEGORIES:GU Jackets,Men's Outdoor Track and Field
END:VEVENT
BEGIN:VEVENT
DTSTART;VALUE=DATE:20260423
DTEND;VALUE=DATE:20260425
DTSTAMP:20260420T054754
CREATED:20260305T165332Z
LAST-MODIFIED:20260419T230813Z
UID:69049-1776970800-1777057199@www.graceland.edu
SUMMARY:(Flag Football) KCAC Championship Day One vs. Graceland
DESCRIPTION:(Flag Football) KCAC Championship Day One vs. Graceland\, TBD
URL:https://www.graceland.edu/event/flag-football-kcac-championship-day-one-vs-graceland/
CATEGORIES:Flag Football,GU Jackets
END:VEVENT
BEGIN:VEVENT
DTSTART;TZID=America/Chicago:20260424T090000
DTEND;TZID=America/Chicago:20260424T090000
DTSTAMP:20260420T054754
CREATED:20260114T122355Z
LAST-MODIFIED:20260419T230814Z
UID:67428-1777021200-1777021200@www.graceland.edu
SUMMARY:(Men's Outdoor Track and Field) Drake Relays
DESCRIPTION:(Men’s Outdoor Track and Field) Drake Relays\, Jim Duncan Track | Des Moines\, IA
URL:https://www.graceland.edu/event/mens-outdoor-track-and-field-drake-relays-3/
CATEGORIES:GU Jackets,Men's Outdoor Track and Field
END:VEVENT
BEGIN:VEVENT
DTSTART;TZID=America/Chicago:20260424T090000
DTEND;TZID=America/Chicago:20260424T090000
DTSTAMP:20260420T054754
CREATED:20260114T122355Z
LAST-MODIFIED:20260419T230814Z
UID:67429-1777021200-1777021200@www.graceland.edu
SUMMARY:(Men's Outdoor Track and Field) Simpson College Kip Janvrin Open
DESCRIPTION:(Men’s Outdoor Track and Field) Simpson College Kip Janvrin Open\, Simpson College Track & Field Complex | Indianola\, IA
URL:https://www.graceland.edu/event/mens-outdoor-track-and-field-simpson-college-kip-janvrin-open-2/
CATEGORIES:GU Jackets,Men's Outdoor Track and Field
END:VEVENT
BEGIN:VEVENT
DTSTART;TZID=America/Chicago:20260424T090000
DTEND;TZID=America/Chicago:20260424T090000
DTSTAMP:20260420T054754
CREATED:20260114T122355Z
LAST-MODIFIED:20260419T230814Z
UID:67430-1777021200-1777021200@www.graceland.edu
SUMMARY:(Women's Outdoor Track and Field) Drake Relays
DESCRIPTION:(Women’s Outdoor Track and Field) Drake Relays\, Jim Duncan Track | Des Moines\, IA
URL:https://www.graceland.edu/event/womens-outdoor-track-and-field-drake-relays-3/
CATEGORIES:GU Jackets,Women's Outdoor Track and Field
END:VEVENT
BEGIN:VEVENT
DTSTART;TZID=America/Chicago:20260424T090000
DTEND;TZID=America/Chicago:20260424T090000
DTSTAMP:20260420T054754
CREATED:20260114T122355Z
LAST-MODIFIED:20260419T230814Z
UID:67431-1777021200-1777021200@www.graceland.edu
SUMMARY:(Women's Outdoor Track and Field) Simpson College Kip Janvrin Open
DESCRIPTION:(Women’s Outdoor Track and Field) Simpson College Kip Janvrin Open\, Simpson College Track & Field Complex | Indianola\, IA
URL:https://www.graceland.edu/event/womens-outdoor-track-and-field-simpson-college-kip-janvrin-open-2/
CATEGORIES:GU Jackets,Women's Outdoor Track and Field
END:VEVENT
BEGIN:VEVENT
DTSTART;TZID=America/Chicago:20260424T130000
DTEND;TZID=America/Chicago:20260424T130000
DTSTAMP:20260420T054754
CREATED:20251125T080844Z
LAST-MODIFIED:20260419T230814Z
UID:66242-1777035600-1777035600@www.graceland.edu
SUMMARY:(Baseball) Mount Mercy vs. Graceland
DESCRIPTION:(Baseball) Mount Mercy vs. Graceland\, Chase Stadium | Lamoni\, IA
URL:https://www.graceland.edu/event/baseball-mount-mercy-vs-graceland-5/
CATEGORIES:Baseball,GU Jackets
END:VEVENT
BEGIN:VEVENT
DTSTART;TZID=America/Chicago:20260424T140000
DTEND;TZID=America/Chicago:20260424T140000
DTSTAMP:20260420T054754
CREATED:20260203T140900Z
LAST-MODIFIED:20260419T230814Z
UID:68364-1777039200-1777039200@www.graceland.edu
SUMMARY:(Softball) Park vs. Graceland
DESCRIPTION:(Softball) Park vs. Graceland\, North Park | Lamoni\, IA | Senior Day
URL:https://www.graceland.edu/event/softball-park-vs-graceland-3/
CATEGORIES:GU Jackets,Softball
END:VEVENT
BEGIN:VEVENT
DTSTART;TZID=America/Chicago:20260424T153000
DTEND;TZID=America/Chicago:20260424T153000
DTSTAMP:20260420T054754
CREATED:20251125T080844Z
LAST-MODIFIED:20260419T230814Z
UID:66243-1777044600-1777044600@www.graceland.edu
SUMMARY:(Baseball) Mount Mercy vs. Graceland
DESCRIPTION:(Baseball) Mount Mercy vs. Graceland\, Chase Stadium | Lamoni\, IA
URL:https://www.graceland.edu/event/baseball-mount-mercy-vs-graceland-6/
CATEGORIES:Baseball,GU Jackets
END:VEVENT
BEGIN:VEVENT
DTSTART;TZID=America/Chicago:20260424T160000
DTEND;TZID=America/Chicago:20260424T160000
DTSTAMP:20260420T054754
CREATED:20260203T140901Z
LAST-MODIFIED:20260419T230814Z
UID:68365-1777046400-1777046400@www.graceland.edu
SUMMARY:(Softball) Park vs. Graceland
DESCRIPTION:(Softball) Park vs. Graceland\, North Park | Lamoni\, IA | Senior Day
URL:https://www.graceland.edu/event/softball-park-vs-graceland-4/
CATEGORIES:GU Jackets,Softball
END:VEVENT
BEGIN:VEVENT
DTSTART;TZID=America/Chicago:20260424T165500
DTEND;TZID=America/Chicago:20260424T170000
DTSTAMP:20260420T054754
CREATED:20260413T213813Z
LAST-MODIFIED:20260419T215311Z
UID:69980-1777049700-1777050000@www.graceland.edu
SUMMARY:Yellow Jackets Philanthropy Circle Proposal Due
DESCRIPTION:Link to event: https://portal.graceland.edu/events/3474341\nDon’t miss your chance to receive up to $5\,000 in funding!\n \nThe deadline to submit your proposal to the Yellow Jackets Philanthropy Circle is April 24th by 5 p.m.\n \nThe Yellow Jackets Philanthropy Circle is a philanthropic initiative supporting students and programs on across our Graceland communities.\nHow it Works\n✔️ Submit your project idea\n✔️ Members (including alumni and friends) vote on which projects to fund.\n✔️ Receive a big check of up to $5\,000! (we do have a literal big check).\n \nWhat to do next:\nVisit Yellow Jackets Philanthropy Leadership Circle Website for additional information\nApply for funding!\n \n \nQuestions? Contact the Advancement team at development@graceland.edu
URL:https://www.graceland.edu/event/yellow-jackets-philanthropy-circle-proposal-due/
CATEGORIES:General Events
END:VEVENT
BEGIN:VEVENT
DTSTART;VALUE=DATE:20260424
DTEND;VALUE=DATE:20260426
DTSTAMP:20260420T054754
CREATED:20260305T165326Z
LAST-MODIFIED:20260419T230815Z
UID:69047-1777057200-1777143599@www.graceland.edu
SUMMARY:(Flag Football) KCAC Championship Day Two vs. Graceland
DESCRIPTION:(Flag Football) KCAC Championship Day Two vs. Graceland\, TBD
URL:https://www.graceland.edu/event/flag-football-kcac-championship-day-two-vs-graceland/
CATEGORIES:Flag Football,GU Jackets
END:VEVENT
BEGIN:VEVENT
DTSTART;TZID=America/Chicago:20260425T130000
DTEND;TZID=America/Chicago:20260425T130000
DTSTAMP:20260420T054754
CREATED:20251125T080844Z
LAST-MODIFIED:20260419T230815Z
UID:66244-1777122000-1777122000@www.graceland.edu
SUMMARY:(Baseball) Mount Mercy vs. Graceland
DESCRIPTION:(Baseball) Mount Mercy vs. Graceland\, Chase Stadium | Lamoni\, IA
URL:https://www.graceland.edu/event/baseball-mount-mercy-vs-graceland-7/
CATEGORIES:Baseball,GU Jackets
END:VEVENT
BEGIN:VEVENT
DTSTART;TZID=America/Chicago:20260425T130000
DTEND;TZID=America/Chicago:20260425T130000
DTSTAMP:20260420T054754
CREATED:20260203T140901Z
LAST-MODIFIED:20260419T230815Z
UID:68366-1777122000-1777122000@www.graceland.edu
SUMMARY:(Softball) Central Methodist (MO) vs. Graceland
DESCRIPTION:(Softball) Central Methodist (MO) vs. Graceland\, North Park | Lamoni\, Iowa
URL:https://www.graceland.edu/event/softball-central-methodist-mo-vs-graceland-3/
CATEGORIES:GU Jackets,Softball
END:VEVENT
BEGIN:VEVENT
DTSTART;TZID=America/Chicago:20260425T150000
DTEND;TZID=America/Chicago:20260425T150000
DTSTAMP:20260420T054754
CREATED:20260203T140902Z
LAST-MODIFIED:20260419T230815Z
UID:68367-1777129200-1777129200@www.graceland.edu
SUMMARY:(Softball) Central Methodist (MO) vs. Graceland
DESCRIPTION:(Softball) Central Methodist (MO) vs. Graceland\, North Park | Lamoni\, Iowa
URL:https://www.graceland.edu/event/softball-central-methodist-mo-vs-graceland-4/
CATEGORIES:GU Jackets,Softball
END:VEVENT
BEGIN:VEVENT
DTSTART;TZID=America/Chicago:20260425T153000
DTEND;TZID=America/Chicago:20260425T153000
DTSTAMP:20260420T054754
CREATED:20251125T080844Z
LAST-MODIFIED:20260419T230815Z
UID:66245-1777131000-1777131000@www.graceland.edu
SUMMARY:(Baseball) Mount Mercy vs. Graceland
DESCRIPTION:(Baseball) Mount Mercy vs. Graceland\, Chase Stadium | Lamoni\, IA
URL:https://www.graceland.edu/event/baseball-mount-mercy-vs-graceland-8/
CATEGORIES:Baseball,GU Jackets
END:VEVENT
BEGIN:VEVENT
DTSTART;TZID=America/Chicago:20260425T183000
DTEND;TZID=America/Chicago:20260425T200000
DTSTAMP:20260420T054754
CREATED:20250820T225325Z
LAST-MODIFIED:20260419T155312Z
UID:63677-1777141800-1777147200@www.graceland.edu
SUMMARY:Baccalaureate - Lamoni\, IA
DESCRIPTION:Link to event: https://portal.graceland.edu/events/2320605\nThe ceremony will be live-streamed and available on-demand at graceland.edu/Live
URL:https://www.graceland.edu/event/baccalaureate-lamoni-ia-7/
LOCATION:The Shaw Center for the Performing Arts\, University Place\, Lamoni\, IA\, USA (Rm: Shaw Family Auditorium)
CATEGORIES:Academics
END:VEVENT
BEGIN:VEVENT
DTSTART;TZID=America/Chicago:20260425T220000
DTEND;TZID=America/Chicago:20260425T230000
DTSTAMP:20260420T054754
CREATED:20250718T201653Z
LAST-MODIFIED:20260419T155312Z
UID:62571-1777154400-1777158000@www.graceland.edu
SUMMARY:Spring Classes End (Trimester)
DESCRIPTION:
URL:https://www.graceland.edu/event/spring-classes-end-trimester/
CATEGORIES:Academics
END:VEVENT
END:VCALENDAR