BEGIN:VCALENDAR
VERSION:2.0
PRODID:-//Graceland - ECPv6.15.20//NONSGML v1.0//EN
CALSCALE:GREGORIAN
METHOD:PUBLISH
X-WR-CALNAME:Graceland
X-ORIGINAL-URL:https://www.graceland.edu
X-WR-CALDESC:Events for Graceland
REFRESH-INTERVAL;VALUE=DURATION:PT1H
X-Robots-Tag:noindex
X-PUBLISHED-TTL:PT1H
BEGIN:VTIMEZONE
TZID:America/Chicago
BEGIN:DAYLIGHT
TZOFFSETFROM:-0600
TZOFFSETTO:-0500
TZNAME:CDT
DTSTART:20220313T080000
END:DAYLIGHT
BEGIN:STANDARD
TZOFFSETFROM:-0500
TZOFFSETTO:-0600
TZNAME:CST
DTSTART:20221106T070000
END:STANDARD
BEGIN:DAYLIGHT
TZOFFSETFROM:-0600
TZOFFSETTO:-0500
TZNAME:CDT
DTSTART:20230312T080000
END:DAYLIGHT
BEGIN:STANDARD
TZOFFSETFROM:-0500
TZOFFSETTO:-0600
TZNAME:CST
DTSTART:20231105T070000
END:STANDARD
BEGIN:DAYLIGHT
TZOFFSETFROM:-0600
TZOFFSETTO:-0500
TZNAME:CDT
DTSTART:20240310T080000
END:DAYLIGHT
BEGIN:STANDARD
TZOFFSETFROM:-0500
TZOFFSETTO:-0600
TZNAME:CST
DTSTART:20241103T070000
END:STANDARD
END:VTIMEZONE
BEGIN:VEVENT
DTSTART;TZID=America/Chicago:20230402T130000
DTEND;TZID=America/Chicago:20230402T130000
DTSTAMP:20260420T055239
CREATED:20221021T023851Z
LAST-MODIFIED:20230402T140808Z
UID:29193-1680440400-1680440400@www.graceland.edu
SUMMARY:(Baseball) Graceland at Grand View
DESCRIPTION:(Baseball) Graceland at Grand View\, Des Moines\, Iowa.
URL:https://www.graceland.edu/event/baseball-graceland-at-grand-view-3/
LOCATION:Graceland\, 1 University Pl\, Lamoni\, IA\, 50140\, United States
CATEGORIES:Baseball,GU Jackets
END:VEVENT
END:VCALENDAR